BEGIN:VCALENDAR
VERSION:2.0
PRODID:-//Idaho Advanced Nuclear Task Force - ECPv6.15.18//NONSGML v1.0//EN
CALSCALE:GREGORIAN
METHOD:PUBLISH
X-WR-CALNAME:Idaho Advanced Nuclear Task Force
X-ORIGINAL-URL:https://nuclear.idaho.gov
X-WR-CALDESC:Events for Idaho Advanced Nuclear Task Force
REFRESH-INTERVAL;VALUE=DURATION:PT1H
X-Robots-Tag:noindex
X-PUBLISHED-TTL:PT1H
BEGIN:VTIMEZONE
TZID:America/Boise
BEGIN:DAYLIGHT
TZOFFSETFROM:-0700
TZOFFSETTO:-0600
TZNAME:MDT
DTSTART:20180311T090000
END:DAYLIGHT
BEGIN:STANDARD
TZOFFSETFROM:-0600
TZOFFSETTO:-0700
TZNAME:MST
DTSTART:20181104T080000
END:STANDARD
BEGIN:DAYLIGHT
TZOFFSETFROM:-0700
TZOFFSETTO:-0600
TZNAME:MDT
DTSTART:20190310T090000
END:DAYLIGHT
BEGIN:STANDARD
TZOFFSETFROM:-0600
TZOFFSETTO:-0700
TZNAME:MST
DTSTART:20191103T080000
END:STANDARD
BEGIN:DAYLIGHT
TZOFFSETFROM:-0700
TZOFFSETTO:-0600
TZNAME:MDT
DTSTART:20200308T090000
END:DAYLIGHT
BEGIN:STANDARD
TZOFFSETFROM:-0600
TZOFFSETTO:-0700
TZNAME:MST
DTSTART:20201101T080000
END:STANDARD
END:VTIMEZONE
BEGIN:VEVENT
DTSTART;TZID=America/Boise:20190516T090000
DTEND;TZID=America/Boise:20190516T150000
DTSTAMP:20260424T063349
CREATED:20190315T203718Z
LAST-MODIFIED:20190509T192841Z
UID:328-1557997200-1558018800@nuclear.idaho.gov
SUMMARY:Meeting
DESCRIPTION:Agenda
URL:https://nuclear.idaho.gov/event/meeting-idaho-falls/
LOCATION:INL Meeting Center\, 775 MK Simpson Blvd\, Idaho Falls\, 83401\, United States
END:VEVENT
END:VCALENDAR